BEGIN:VCALENDAR
VERSION:2.0
PRODID:-//Pilgrims Hospice - ECPv6.15.20//NONSGML v1.0//EN
CALSCALE:GREGORIAN
METHOD:PUBLISH
X-WR-CALNAME:Pilgrims Hospice
X-ORIGINAL-URL:https://pilgrimshospice.com
X-WR-CALDESC:Events for Pilgrims Hospice
REFRESH-INTERVAL;VALUE=DURATION:PT1H
X-Robots-Tag:noindex
X-PUBLISHED-TTL:PT1H
BEGIN:VTIMEZONE
TZID:America/Edmonton
BEGIN:DAYLIGHT
TZOFFSETFROM:-0700
TZOFFSETTO:-0600
TZNAME:MDT
DTSTART:20230312T090000
END:DAYLIGHT
BEGIN:STANDARD
TZOFFSETFROM:-0600
TZOFFSETTO:-0700
TZNAME:MST
DTSTART:20231105T080000
END:STANDARD
BEGIN:DAYLIGHT
TZOFFSETFROM:-0700
TZOFFSETTO:-0600
TZNAME:MDT
DTSTART:20240310T090000
END:DAYLIGHT
BEGIN:STANDARD
TZOFFSETFROM:-0600
TZOFFSETTO:-0700
TZNAME:MST
DTSTART:20241103T080000
END:STANDARD
BEGIN:DAYLIGHT
TZOFFSETFROM:-0700
TZOFFSETTO:-0600
TZNAME:MDT
DTSTART:20250309T090000
END:DAYLIGHT
BEGIN:STANDARD
TZOFFSETFROM:-0600
TZOFFSETTO:-0700
TZNAME:MST
DTSTART:20251102T080000
END:STANDARD
END:VTIMEZONE
BEGIN:VEVENT
DTSTART;TZID=America/Edmonton:20241023T113000
DTEND;TZID=America/Edmonton:20241023T130000
DTSTAMP:20260425T204957
CREATED:20240729T212646Z
LAST-MODIFIED:20240729T212740Z
UID:10000312-1729683000-1729688400@pilgrimshospice.com
SUMMARY:Module 5
DESCRIPTION:Topic:  Spiritual Issues and Support \nDate: Wednesday\, October 23\, 2024 \nTime: 11:30am – 1pm \nLocation: Online via TELUS Business Connect \nFacilitator: Jill Burt\, Director of Grief Support and Spiritual Care\, Pilgrims Hospice Society \nLearning Objectives for Module 5 from the Canadian Hospice Palliative Care Association: \n\n\n\nUnderstand the spiritual needs of the dying person and the family.\nUnderstand different spiritual concepts and practices.\nUnderstand the role of the volunteer in providing spiritual support.\nDevelop the skills to provide spiritual support for the dying person and family.\n\n\n\nFor more information on our Volunteer Training Program\, please contact volunteersupport@pilgrimshospice.com. \nSubmission Form
URL:https://pilgrimshospice.com/event/module-5-231024/
LOCATION:Online
CATEGORIES:Volunteer Training
ATTACH;FMTTYPE=image/png:https://pilgrimshospice.com/wordpress/wp-content/uploads/2022/01/PilgrimsHospice-Icon-RGB.png
ORGANIZER;CN="Pilgrims Hospice Society":MAILTO:info@pilgrimshospice.com
END:VEVENT
END:VCALENDAR